Workbook

Sheet CUSTO (COM VALORES)
A1: PLANILHA ORÇAMENTÁRIA
A2: 1 - As informações mínimas que deverão constar da planilha são: Numeração do Item, Discriminação, Unidade, Quantidade, Custo Unitário do material, Custo Unitário de Mão de Obra, Custo total do Material por item, Custo total de Mão de Obra por Item, Subtotais de Material, subtotais de Mão de Obra, Total Geral de Material, Total Geral de Mão de Obra e Total Geral do Orçamento. 2 - A Planilha orçamentária abaixo deverá ser apresentada utilizando papel timbrado da empresa; 3 - Os Valores constantes na planilha deverão ser o valores de mercado, sem a aplicação do BDI; 4 - O BDI deverá estar destacado ao final da tabela, com o preenchimento dos campos específicos, conforme abaixo. A composição do BDI aplicado deverá ser detalhada. 5 - Os itens elencados abaixo são referentes a obra ora em licitação, e servirão de referências para cotação. Alterações nos itens e quantidades, somente poderão ocorrer com autorização da Comissão Permanente de Licitação. 6- Todos os serviços e insumos foram cotados com a base de dados SINAPI, tabela não desonerada de SANTA CATARINA em janeiro de 2023. 7- As composições que se iniciam com 8000xx são composições próprias, utilizando-se de insumos e serviços da base SINAPI e se encontram na outra aba desta planilha
A3: CÓDIGO | B3: CÓDIGO COMPOSIÇÃO | C3: Descrição | D3: Unidade | E3: Quantidade orçada | F3: Preço total por grupo
F4: Materiais | H4: Mão de Obra | J4: Preço total
F5: Unitário | G5: Total | H5: Unitário | I5: Total | J5: Unitário | K5: Total
A6: 1 | C6: COBERTURA | G6: =G7+G12+G31+G47 -> 229782.44 | I6: =I7+I12+I31+I47 -> 65527.043 | K6: =K7+K12+K31+K47 -> 295309.48
A7: 1.1 | C7: LAJE IMPERMEABILIZADA | G7: =G8 -> 2849.548 | I7: =I8 -> 1545.8296 | K7: =K8 -> 4395.3775
A8: 1.1.1 | C8: IMPERMEABILIZAÇÃO | G8: =G9+G10+G11 -> 2849.548 | I8: =I9+I10+I11 -> 1545.8296 | K8: =K9+K10+K11 -> 4395.3775
A9: 1.1.1.1 | B9: 12216 | C9: IMPERMEABILIZAÇÃO DE SUPERFÍCIE COM MEMBRANA À BASE DE RESINA ACRÍLICA, 3 DEMÃOS E VÉU DE POLIÉSTER. AF_06/2018 | D9: m2 | E9: 60.59 | F9: 33.66 | G9: =F9*E9 -> 2039.4594 | H9: 20.7915 | I9: =H9*E9 -> 1259.757 | J9: =H9+F9 -> 54.4515 | K9: =I9+G9 -> 3299.2164
A10: 1.1.1.2 | B10: 12417 | C10: LIMPEZA DE SUPERFÍCIE COM JATO DE ALTA PRESSÃO. AF_04/2019 | D10: m2 | E10: 60.59 | F10: 0.051 | G10: =F10*E10 -> 3.09009 | H10: 1.9125 | I10: =H10*E10 -> 115.87838 | J10: =H10+F10 -> 1.9635 | K10: =I10+G10 -> 118.96847
A11: 1.1.1.3 | B11: 80028 | C11: INJEÇÃO DE RESINA EPÓXI PARA TRATAMENTO DE FISSURAS | D11: m | E11: 16.5 | F11: 48.909 | G11: =F11*E11 -> 806.9985 | H11: 10.3148 | I11: =H11*E11 -> 170.1942 | J11: =H11+F11 -> 59.2238 | K11: =I11+G11 -> 977.1927
A12: 1.2 | C12: TELHADO FIBROCIMENTO | G12: =G13+G17+G20+G22+G25+G29 -> 210905.39 | I12: =I13+I17+I20+I22+I25+I29 -> 47741.755 | K12: =K13+K17+K20+K22+K25+K29 -> 258647.14
A13: 1.2.1 | C13: TELHAS | G13: =G14+G15+G16 -> 154035.94 | I13: =I14+I15+I16 -> 5979.704 | K13: =K14+K15+K16 -> 160015.65
A14: 1.2.1.1 | B14: 10497 | C14: TELHAMENTO COM TELHA METÁLICA TERMOACÚSTICA E = 30 MM, COM ATÉ 2 ÁGUAS, INCLUSO IÇAMENTO. AF_07/2019 | D14: m2 | E14: 620.12 | F14: 232.7939 | G14: =F14*E14 -> 144360.15 | H14: 3.0314 | I14: =H14*E14 -> 1879.8318 | J14: =H14+F14 -> 235.8253 | K14: =I14+G14 -> 146239.99
A15: 1.2.1.2 | B15: 11898 | C15: REMOÇÃO DE TELHAS, DE FIBROCIMENTO, METÁLICA E CERÂMICA, DE FORMA MANUAL, SEM REAPROVEITAMENTO. AF_12/2017 | D15: m2 | E15: 620.12 | F15: 0 | G15: =F15*E15 -> 0 | H15: 3.5344 | I15: =H15*E15 -> 2191.7521 | J15: =H15+F15 -> 3.5344 | K15: =I15+G15 -> 2191.7521
A16: 1.2.1.4 | B16: 5074 | C16: RUFO EXTERNO/INTERNO EM CHAPA DE AÇO GALVANIZADO NÚMERO 26, CORTE DE 33 CM, INCLUSO IÇAMENTO. AF_07/2019 | D16: m | E16: 186.08 | F16: 51.998 | G16: =F16*E16 -> 9675.7878 | H16: 10.2543 | I16: =H16*E16 -> 1908.1201 | J16: =H16+F16 -> 62.2523 | K16: =I16+G16 -> 11583.908
A17: 1.2.2 | C17: CALHAS | G17: =G18+G19 -> 10478.944 | I17: =I18+I19 -> 1717.1168 | K17: =K18+K19 -> 12196.061
A18: 1.2.2.1 | B18: 12213 | C18: CALHA EM CHAPA DE AÇO GALVANIZADO NÚMERO 24, DESENVOLVIMENTO DE 50 CM, INCLUSO TRANSPORTE VERTICAL. AF_07/2019 | D18: m | E18: 78.4 | F18: 133.66 | G18: =F18*E18 -> 10478.944 | H18: 16.9595 | I18: =H18*E18 -> 1329.6248 | J18: =H18+F18 -> 150.6195 | K18: =I18+G18 -> 11808.569
A19: 1.2.2.2 | B19: 80026 | C19: REMOÇÃO DE CALHA, RUFO OU SPDA | D19: m | E19: 78.4 | F19: 0 | G19: =F19*E19 -> 0 | H19: 4.9425 | I19: =H19*E19 -> 387.492 | J19: =H19+F19 -> 4.9425 | K19: =I19+G19 -> 387.492
A20: 1.2.3 | C20: PINGADEIRAS | G20: =G21 -> 5870.8497 | I20: =I21 -> 1105.4163 | K20: =K21 -> 6976.266
A21: 1.2.3.1 | B21: 6184 | C21: CHAPIM (RUFO CAPA) EM AÇO GALVANIZADO, CORTE 33. AF_11/2020 | D21: m | E21: 146.64 | F21: 40.0358 | G21: =F21*E21 -> 5870.8497 | H21: 7.5383 | I21: =H21*E21 -> 1105.4163 | J21: =H21+F21 -> 47.5741 | K21: =I21+G21 -> 6976.266
A22: 1.2.4 | C22: SPDA | G22: =G23+G24 -> 3028.4093 | I22: =I23+I24 -> 3162.8488 | K22: =K23+K24 -> 6191.2581
A23: 1.2.4.1 | B23: 11555 | C23: CORDOALHA DE COBRE NU 16 MM², NÃO ENTERRADA, COM ISOLADOR - FORNECIMENTO E INSTALAÇÃO. AF_12/2017 | D23: m | E23: 146.64 | F23: 20.652 | G23: =F23*E23 -> 3028.4093 | H23: 16.6263 | I23: =H23*E23 -> 2438.0806 | J23: =H23+F23 -> 37.2783 | K23: =I23+G23 -> 5466.4899
A24: 1.2.4.2 | B24: 80026 | C24: REMOÇÃO DE CALHA, RUFO OU SPDA | D24: m | E24: 146.64 | F24: 0 | G24: =F24*E24 -> 0 | H24: 4.9425 | I24: =H24*E24 -> 724.7682 | J24: =H24+F24 -> 4.9425 | K24: =I24+G24 -> 724.7682
A25: 1.2.5 | C25: MADEIRAMENTO | G25: =G26+G27+G28 -> 32124.572 | I25: =I26+I27+I28 -> 23556.188 | K25: =K26+K27+K28 -> 55680.761
A26: 1.2.5.1 | B26: 9836 | C26: TRAMA DE MADEIRA COMPOSTA POR RIPAS, CAIBROS E TERÇAS PARA TELHADOS DE MAIS QUE 2 ÁGUAS PARA TELHA DE ENCAIXE DE CERÂMICA OU DE CONCRETO, INCLUSO TRANSPORTE VERTICAL. AF_07/2019 | D26: m2 | E26: 310.06 | F26: 97.1 | G26: =F26*E26 -> 30106.826 | H26: 32.8388 | I26: =H26*E26 -> 10181.998 | J26: =H26+F26 -> 129.9388 | K26: =I26+G26 -> 40288.824
A27: 1.2.5.2 | B27: 11894 | C27: REMOÇÃO DE TRAMA METÁLICA OU DE MADEIRA PARA FORRO, DE FORMA MANUAL, SEM REAPROVEITAMENTO. AF_12/2017 | D27: m2 | E27: 310.06 | F27: 0 | G27: =F27*E27 -> 0 | H27: 3.093 | I27: =H27*E27 -> 959.01558 | J27: =H27+F27 -> 3.093 | K27: =I27+G27 -> 959.01558
A28: 1.2.5.3 | B28: 80029 | C28: IMUNIZAÇÃO DE MADEIRA CONTRA CUPIM, COM APLICAÇÃO DE 01 DEMÃO DE PENTOX OU SIMILAR | D28: m2 | E28: 620.12 | F28: 3.2538 | G28: =F28*E28 -> 2017.7465 | H28: 20.0206 | I28: =H28*E28 -> 12415.174 | J28: =H28+F28 -> 23.2744 | K28: =I28+G28 -> 14432.921
A29: 1.2.6 | C29: DEMOLIÇÃO | G29: =G30 -> 5366.669 | I29: =I30 -> 12220.481 | K29: =K30 -> 17587.15
A30: 1.2.6.1 | B30: 80050 | C30: ENSACAMENTO ENTULHO,TRANS.VERTICAL COM ELEVADOR E CAÇAMBA | D30: m3 | E30: 70 | F30: 76.6667 | G30: =F30*E30 -> 5366.669 | H30: 174.5783 | I30: =H30*E30 -> 12220.481 | J30: =H30+F30 -> 251.245 | K30: =I30+G30 -> 17587.15
A31: 1.3 | C31: TELHADO METÁLICO | G31: =G32+G39+G42 -> 13604.175 | I31: =I32+I39+I42 -> 14351.544 | K31: =K32+K39+K42 -> 27955.72
A32: 1.3.1 | C32: TELHAS | G32: =G33+G34+G35+G36+G37+G38 -> 4657.713 | I32: =I33+I34+I35+I36+I37+I38 -> 12489.303 | K32: =K33+K34+K35+K36+K37+K38 -> 17147.016
A33: 1.3.1.1 | B33: 5074 | C33: RUFO EXTERNO/INTERNO EM CHAPA DE AÇO GALVANIZADO NÚMERO 26, CORTE DE 33 CM, INCLUSO IÇAMENTO. AF_07/2019 | D33: m | E33: 61.61 | F33: 51.998 | G33: =F33*E33 -> 3203.5968 | H33: 10.2543 | I33: =H33*E33 -> 631.76742 | J33: =H33+F33 -> 62.2523 | K33: =I33+G33 -> 3835.3642
A34: 1.3.1.2 | B34: 12417 | C34: LIMPEZA DE SUPERFÍCIE COM JATO DE ALTA PRESSÃO. AF_04/2019 | D34: m2 | E34: 405.17 | F34: 0.051 | G34: =F34*E34 -> 20.66367 | H34: 1.9125 | I34: =H34*E34 -> 774.88763 | J34: =H34+F34 -> 1.9635 | K34: =I34+G34 -> 795.5513
A35: 1.3.1.3 | B35: 80027 | C35: RETIRADA MANUAL DE COBERTURA EM TELHA METÁLICA COM APROVEITAMENTO, INCLUSIVE REMOÇÃO E EMPILHAMENTO MANUAL DO MATERIAL | D35: m2 | E35: 127.83 | G35: =F35*E35 -> 0 | H35: 14.652 | I35: =H35*E35 -> 1872.9652 | J35: =H35+F35 -> 14.652 | K35: =I35+G35 -> 1872.9652
A36: 1.3.1.4 | B36: 5299 | C36: LIXAMENTO MANUAL EM SUPERFÍCIES METÁLICAS EM OBRA. AF_01/2020 | D36: m2 | E36: 60.77 | F36: 1.455 | G36: =F36*E36 -> 88.42035 | H36: 9.3308 | I36: =H36*E36 -> 567.03272 | J36: =H36+F36 -> 10.7858 | K36: =I36+G36 -> 655.45307
A37: 1.3.1.5 | B37: 80000 | C37: SUBSTITUIÇÃO DE PARAFUSOS METÁLICOS | D37: m2 | E37: 405.17 | F37: 3.15 | G37: =F37*E37 -> 1276.2855 | H37: 20.936 | I37: =H37*E37 -> 8482.6391 | J37: =H37+F37 -> 24.086 | K37: =I37+G37 -> 9758.9246
A38: 1.3.1.5 | B38: 80001 | C38: APLICAÇÃO DE SELANTE EM RUFOS E PARAFUSOS | D38: m | E38: 10.5 | F38: 6.5473 | G38: =F38*E38 -> 68.74665 | H38: 15.2391 | I38: =H38*E38 -> 160.01055 | J38: =H38+F38 -> 21.7864 | K38: =I38+G38 -> 228.7572
A39: 1.3.2 | C39: CALHAS | G39: =G40+G41 -> 8234.7926 | I39: =I40+I41 -> 1349.3822 | K39: =K40+K41 -> 9584.1748
A40: 1.3.2.1 | B40: 10509 | C40: CALHA EM CHAPA DE AÇO GALVANIZADO NÚMERO 24, DESENVOLVIMENTO DE 100 CM, INCLUSO TRANSPORTE VERTICAL. AF_07/2019 | D40: m | E40: 61.61 | F40: 133.66 | G40: =F40*E40 -> 8234.7926 | H40: 16.9595 | I40: =H40*E40 -> 1044.8748 | J40: =H40+F40 -> 150.6195 | K40: =I40+G40 -> 9279.6674
...

Sheet Cronograma FF (COM VALORES)
B2: CRONOGRAMA FINANCEIRO
A4: OBSERVAÇÕES:
B5: 1 - As informações mínimas que deverão constar no Cronograma Físico Financeiro são: - Valor e percentual
B6: de material e mão de obra referente a cada parcela, valor total da parcela, valor de material por parcela,
B7: valor de mão de obra por parcela, percentual referente a cada parcela em relação ao custo da Obra.
B8: 2 - O Cronograma acima deverá ser apresentado utilizando papel timbrado da empresa;
B9: 3 - Os itens elencados acima são referentes a obra ora em licitação, e servirão de referências para cotação.
B12: CRONOGRAMA FÍSICO-FINANCEIRO
H13: PARCELA 01 | L13: PARCELA 02 | P13: PARCELA 03
G14: MATERIAL | I14: MÃO DE OBRA | K14: MATERIAL | M14: MÃO DE OBRA | O14: MATERIAL | Q14: MÃO DE OBRA
A15: ITEM | B15: DISCRIMINAÇÃO | C15: MATER. TOTAL (R$) | D15: M.D.O. TOTAL (R$) | E15: TOTAL ÍTEM (R$) | F15: % | G15: (R$) | H15: % | I15: (R$) | J15: % | K15: (R$) | L15: % | M15: (R$) | N15: % | O15: (R$) | P15: % | Q15: (R$) | R15: %
A16: A | B16: PRÉDIO PRINCIPAL
A17: 1 | B17: ='CUSTO (COM VALORES)'!C6 -> COBERTURA | C17: ='CUSTO (COM VALORES)'!G6 -> 229782.44 | D17: ='CUSTO (COM VALORES)'!I6 -> 65527.043 | E17: =C17+D17 -> 295309.48 | F17: =(E17/E$22)*100 -> 79.456469 | G17: =C17*H17 -> 114891.22 | H17: 0.5 | I17: =D17*J17 -> 32763.521 | J17: 0.5 | K17: =C17*L17 -> 114891.22 | L17: 0.5 | M17: =D17*N17 -> 32763.521 | N17: 0.5 | O17: =G17*P17 -> 0 | P17: 0 | Q17: =D17*R17 -> 0 | R17: 0
A18: 2 | B18: ='CUSTO (COM VALORES)'!C55 -> ÁREAS INTERNAS - SEGUNDO PAVIMENTO | C18: ='CUSTO (COM VALORES)'!G55 -> 1681.8354 | D18: ='CUSTO (COM VALORES)'!I55 -> 794.23202 | E18: =C18+D18 -> 2476.0674 | F18: =(E18/E$22)*100 -> 0.66621489 | G18: =C18*H18 -> 0 | H18: 0 | I18: =D18*J18 -> 0 | J18: 0 | K18: =C18*L18 -> 1681.8354 | L18: 1 | M18: =D18*N18 -> 794.23202 | N18: 1 | O18: =G18*P18 -> 0 | P18: 0 | Q18: =D18*R18 -> 0 | R18: 0
A19: 3 | B19: ='CUSTO (COM VALORES)'!C81 -> ÁREAS INTERNAS - PRIMEIRO PAVIMENTO | C19: ='CUSTO (COM VALORES)'!G81 -> 7156.3826 | D19: ='CUSTO (COM VALORES)'!I81 -> 7221.8078 | E19: =C19+D19 -> 14378.19 | F19: =(E19/E$22)*100 -> 3.8686202 | G19: =C19*H19 -> 0 | H19: 0 | I19: =D19*J19 -> 0 | J19: 0 | K19: =C19*L19 -> 3578.1913 | L19: 0.5 | M19: =D19*N19 -> 3610.9039 | N19: 0.5 | O19: =C19*P19 -> 3578.1913 | P19: 0.5 | Q19: =D19*R19 -> 3610.9039 | R19: 0.5
A20: 4 | B20: ='CUSTO (COM VALORES)'!C154 -> ADMINISTRAÇÃO DE OBRA | C20: ='CUSTO (COM VALORES)'!G154 -> 0 | D20: ='CUSTO (COM VALORES)'!I154 -> 59498.235 | E20: =C20+D20 -> 59498.235 | F20: =(E20/E$22)*100 -> 16.008696 | G20: =C20*H20 -> 0 | H20: 0.3333 | I20: =D20*J20 -> 19830.762 | J20: 0.3333 | K20: =C20*L20 -> 0 | L20: 0.3333 | M20: =D20*N20 -> 19830.762 | N20: 0.3333 | O20: =G20*P20 -> 0 | P20: 0.3334 | Q20: =D20*R20 -> 19836.712 | R20: 0.3334
B22: VALOR TOTAL DO ORÇAMENTO | C22: =SUM(C17:C20) -> 238620.66 | D22: =SUM(D17:D20) -> 133041.32 | E22: =SUM(E17:E20) -> 371661.98 | F22: =SUM(F17:F20) -> 100
B24: VALOR TOTAL MATERIAL (Custo de mercado) | G24: =SUM(G17:G20) -> 114891.22 | H24: =G24/C22 -> 0.48148061 | K24: =SUM(K17:K20) -> 120151.25 | L24: =K24/C22 -> 0.50352408 | O24: =SUM(O17:O20) -> 3578.1913 | P24: =O24/C22 -> 0.014995312
B25: VALOR TOTAL MÃO DE OBRA (Custo de mercado) | I25: =SUM(I17:I20) -> 52594.283 | J25: =I25/D22 -> 0.39532293 | M25: =SUM(M17:M20) -> 56999.419 | N25: =M25/D22 -> 0.42843396 | Q25: =SUM(Q17:Q20) -> 23447.616 | R25: =Q25/D22 -> 0.17624311
B27: Valor Total de Material com BDI | C27: =+C22+C22*'CUSTO (COM VALORES)'!D176/100 -> 308129.24 | G27: =+G24+G24*'CUSTO (COM VALORES)'!D176/100 -> 148358.25 | K27: =+K24+K24*'CUSTO (COM VALORES)'!D176/100 -> 155150.49 | O27: =+O24+O24*'CUSTO (COM VALORES)'!D176/100 -> 4620.4942
B28: Valor Total de Mão de Obra com BDI | D28: =+D22+D22*'CUSTO (COM VALORES)'!D176/100 -> 171795.35 | I28: =+I25+I25*'CUSTO (COM VALORES)'!D176/100 -> 67914.642 | M28: =+M25+M25*'CUSTO (COM VALORES)'!D176/100 -> 73602.964 | Q28: =+Q25+Q25*'CUSTO (COM VALORES)'!D176/100 -> 30277.747
B29: Valor Total do Orçamento | E29: =+E22+E22*'CUSTO (COM VALORES)'!D176/100 -> 479924.59
B31: Valor Total da Parcela/Percentual da Parcela | I31: =G27+I28 -> 216272.9 | J31: =I31/E29 -> 0.45063933 | M31: =K27+M28 -> 228753.45 | N31: =M31/E29 -> 0.47664458 | Q31: =O27+Q28 -> 34898.241 | R31: =Q31/E29 -> 0.072716093
B32: Valor total Acumulado/Percentual Acumulado | I32: =I31 -> 216272.9 | J32: =J31 -> 0.45063933 | M32: =M31+I32 -> 445026.35 | N32: =N31+J32 -> 0.92728391 | Q32: =Q31+M32 -> 479924.59 | R32: =R31+N32 -> 1
B35: Profissional responsável pelo orçamento:
B36: Número de Registro no CREA ou CAU:
B37: Número da ART ou RRT:
E40: Assinatura

Sheet COMPOSIÇÃO
A1: 80003 | B1: TRATAMENTO DE FISSURAS E TRINCAS
A2: SERVIÇO | B2: CÓDIGO SINAPI | C2: COMPOSIÇÃO | D2: Unidade | E2: Quantidade | F2: Preço Unitário | G2: Total
A3: Material | B3: 872 | C3: SELANTE ELASTICO MONOCOMPONENTE A BASE DE POLIURETANO (PU) PARA JUNTAS DIVERSAS | D3: 310ml | E3: 0.2 | G3: =F3*E3 -> 0
A4: Material | B4: 2170 | C4: LIXA EM FOLHA PARA PAREDE OU MADEIRA, NUMERO 120, COR VERMELHA | D4: Unidade | E4: 0.06 | G4: =F4*E4 -> 0
A5: Material | B5: 3303 | C5: VEU POLIESTER | D5: m2 | E5: 0.24 | G5: =F5*E5 -> 0
A6: Material | B6: 3895 | C6: MEMBRANA IMPERMEABILIZANTE ACRILICA MONOCOMPONENTE | D6: kg | E6: 0.24 | G6: =F6*E6 -> 0
A7: Material | B7: 4456 | C7: SELADOR ACRILICO OPACO PREMIUM INTERIOR/EXTERIOR | D7: l | E7: 0.33 | G7: =F7*E7 -> 0
A8: Serviço | B8: 5049 | C8: AJUDANTE DE PINTOR COM ENCARGOS COMPLEMENTARES | D8: h | E8: 0.3 | G8: =F8*E8 -> 0
A9: Serviço | B9: 8119 | C9: PINTOR COM ENCARGOS COMPLEMENTARES | D9: h | E9: 0.4 | G9: =F9*E9 -> 0
A11: 80050 | B11: ENSACAMENTO ENTULHO,TRANS.VERTICAL COM ELEVADOR E CAÇAMBA
A12: SERVIÇO | B12: CÓDIGO SINAPI | C12: COMPOSIÇÃO | D12: Unidade | E12: Quantidade | F12: Preço Unitário | G12: Total
A13: Material | B13: 12247 | C13: CAÇAMBA DE ENTULHO - 6M3 | D13: m3 | E13: 1.15 | G13: =F13*E13 -> 0
A14: Serviço | B14: 8125 | C14: SERVENTE ENCARGOS COMPLEMENTARES | D14: h | E14: 8.124 | G14: =F14*E14 -> 0
F16: Preço Total | G16: =G3+G8+G9+G4+G5+G6+G7 -> 0
A17: 80017 | B17: LIMPEZA MANUAL COM HIPOCLORITO DE SÓDIO
A18: SERVIÇO | B18: CÓDIGO SINAPI | C18: COMPOSIÇÃO | D18: Unidade | E18: Quantidade | F18: Preço Unitário | G18: Total
A19: Material | B19: 1468 | C19: ACIDO CLORIDRICO / ACIDO MURIATICO, DILUICAO 10% A 12% PARA USO EM LIMPEZA | D19: l | E19: 0.005 | G19: =F19*E19 -> 0
A20: Serviço | B20: 5049 | C20: AJUDANTE DE PINTOR COM ENCARGOS COMPLEMENTARES | D20: h | E20: 0.1 | G20: =F20*E20 -> 0
A23: 800025 | B23: LIXAMENTO MANUAL EM PAREDE PARA REMOÇÃO DE TINTA
A24: SERVIÇO | B24: CÓDIGO SINAPI | C24: COMPOSIÇÃO | D24: Unidade | E24: Quantidade | F24: Preço Unitário | G24: Total
A25: Material | B25: 2430 | C25: LIXA D'AGUA EM FOLHA, GRAO 100 | D25: Unidade | E25: 0.25 | G25: =F25*E25 -> 0
A26: Serviço | B26: 8125 | C26: SERVENTE COM ENCARGOS COMPLEMENTARES | D26: h | E26: 0.14 | G26: =F26*E26 -> 0
A29: 800024 | B29: APLICAÇÃO MANUAL DE PINTURA COM TINTA EPÓXI EM PAREDES E FORROS, DUAS DEMÃOS.
A30: SERVIÇO | B30: CÓDIGO SINAPI | C30: COMPOSIÇÃO | D30: Unidade | E30: Quantidade | F30: Preço Unitário | G30: Total
A31: Material | B31: 720 | C31: FITA CREPE ROLO DE 25 MM X 50 M | D31: unidade | E31: 0.01 | G31: =F31*E31 -> 0
A32: Material | B32: 4114 | C32: PRIMER EPOXI / EPOXIDICO | D32: l | E32: 0.2016 | G32: =F32*E32 -> 0
A33: Material | B33: 4391 | C33: DILUENTE EPOXI | D33: l | E33: 0.064 | G33: =F33*E33 -> 0
A34: Material | B34: 4653 | C34: TINTA EPOXI BASE AGUA PREMIUM, BRANCA | D34: l | E34: 0.3222 | G34: =F34*E34 -> 0
A35: Serviço | B35: 5049 | C35: AJUDANTE DE PINTOR COM ENCARGOS COMPLEMENTARES | D35: h | E35: 0.0115 | G35: =F35*E35 -> 0
A36: Serviço | B36: 8121 | C36: PINTOR PARA TINTA EPÓXI COM ENCARGOS COMPLEMENTARES | D36: h | E36: 0.275 | G36: =F36*E36 -> 0
A39: 800027 | B39: RETIRADA MANUAL DE COBERTURA EM TELHA METÁLICA COM APROVEITAMENTO, INCLUSIVE REMOÇÃO E EMPILHAMENTO MANUAL DO MATERIAL
A40: SERVIÇO | B40: CÓDIGO SINAPI | C40: COMPOSIÇÃO | D40: Unidade | E40: Quantidade | F40: Preço Unitário | G40: Total
A41: Serviço | B41: 8125 | C41: SERVENTE COM ENCARGOS COMPLEMENTARES | D41: h | E41: 0.6 | G41: =F41*E41 -> 0
A42: Serviço | B42: 8131 | C42: TELHADISTA COM ENCARGOS COMPLEMENTARES | D42: h | E42: 0.6 | G42: =F42*E42 -> 0
A45: 80029 | B45: IMUNIZAÇÃO DE MADEIRA CONTRA CUPIM, COM APLICAÇÃO DE 01 DEMÃO DE PENTOX OU SIMILAR
A46: SERVIÇO | B46: CÓDIGO SINAPI | C46: COMPOSIÇÃO | D46: Unidade | E46: Quantidade | F46: Preço Unitário | G46: Total
A47: Material | B47: 466 | C47: IMUNIZANTE PARA MADEIRA, INCOLOR | D47: l | E47: 0.125 | G47: =F47*E47 -> 0
A48: Serviço | B48: 8119 | C48: PINTOR COM ENCARGOS COMPLEMENTARES | D48: h | E48: 0.4 | G48: =F48*E48 -> 0
A49: Serviço | B49: 8125 | C49: SERVENTE COM ENCARGOS COMPLEMENTARES | D49: h | E49: 0.35 | G49: =F49*E49 -> 0
A52: 800026 | B52: REMOÇÃO DE CALHA, RUFO OU CORDOALHAS SPDA
...
